Workbook
Name asoll: Eingabe!#REF!
Name cB: Eingabe!$G$16
Name f_1: Eingabe!#REF!
Name f_2: Eingabe!#REF!
Name f_3: Eingabe!#REF!
Name f_4: Eingabe!#REF!
Name f_5: Eingabe!#REF!
Name isoll: Eingabe!$G$20
Name Lh: Eingabe!$G$22
Name nk: Eingabe!$G$18
Name p: Eingabe!#REF!
Name Strangzahl: Eingabe!$I$47
Name Xist: Eingabe!#REF!
Name Xsoll: Eingabe!$I$58
Name zg: Eingabe!$J$49
Name zk: Eingabe!$I$48

Sheet Eingabe
B2: Roloff / Matek "Maschinenelemente"
F4: Arbeitsblatt: | G4: SCHR-4 | H4: Datum : | I4: =NOW() -> 41864.587
B5: Bewegungsschraube | F5: Bemerkungen:
B6: mit Trapezgewinde | G6: Beispiel: Spindelpresse
B8: Entwurfsberechnung
B14: von der Spindel zu übertragende Druckkraft | F14: F | G14: 75 | H14: kN
B15: freie Spindellänge | F15: l | G15: 1200 | H15: mm
E16: anzunehmender Knickfall | G16: =D174 -> 1 | H16: -
E17: Beanspruchungsart | G17: =D180 -> 1 | H17: -
E18: Spindelwerkstoff | G18: =D184 -> 2 | H18: -
E19: Anzahl der Gewindegänge | F19: n | G19: =D188 -> 1 | H19: -
B20: Richtwert für den Kerndurchmesser | F20: d3' | I20: =((64*G14*1000*8*I147^2)/(210000*PI()^3))^0.25 -> 76.343347 | J20: mm
C24: vorgewähltes Trapez-Gewinde | I24: Tr | J24: =Daten_1!F6 -> 16
C25: vorhandener Kerndurchmesser | H25: d3 = | I25: =Daten_1!E6 -> 11.5 | J25: mm
C26: Steigungswinkel für das eingängige Gewinde | H26: j = | I26: =Daten_1!I6 -> 5.1965082 | J26: °
C27: Steigungswinkel für das n gängige Gewinde | H27: j' = | I27: =ATAN(I29/(Daten_1!J6*PI()))*180/PI() -> 5.1965082 | J27: °
C28: Gewindeteilung | H28: Ph = | I28: =Daten_1!G6 -> 4 | J28: mm
C29: Gesamtsteigung P = Gangzahl x Ph | H29: P = | I29: =I28*G19 -> 4 | J29: mm
E35: Werkstoff der Spindelmutter | H35: =Daten_2!F5 -> CuSn-Leg.
E36: Schmierzustand | H36: =Daten_2!G5 -> geschmiert
E37: Reibwinkel r | H37: =Daten_2!H5 -> 6 | I37: °
B43: a) Festigkeitsnachweis
B44: aufzubringendes Drehmoment | F44: T | H44: =G14*1000*Daten_1!J6/2*TAN(PI()/180*(Daten_2!H5+I27))/1000 -> 103.91955 | I44: Nm
B45: Gewinde ist selbsthemmend | G45: =IF(H37>I27,"ja","nein") -> ja
B46: Zulässigkeit der Einzelspannungen: | I46: vorhanden | J46: zulässig
B47: im verdrehbeanspruchten Bereich | E47: tt < tt zul | F47: [N/mm²] | G47: =IF(I47<J47,"ja","nein") -> nein | I47: =H44*1000/(0.2*Daten_1!E6^3) -> 341.64396 | J47: =I152 -> 113.33333
B48: im druckbeanspruchten Bereich | E48: sd < sd zul | F48: [N/mm²] | G48: =IF(I48<J48,"ja","nein") -> nein | I48: =G14*1000/(Daten_1!L6) -> 722.06401 | J48: =I153 -> 196.66667
B49: druck- u. verdrehbeanspr. Bereich | E49: sv < sv zul | F49: [N/mm²] | G49: =IF(I49<J49,"ja","nein") -> nein | I49: =(I48^2+3*(1*I47)^2)^0.5 -> 933.56211 | J49: =J48 -> 196.66667
B50: b) Stabilitätsnachweis
B51: vorhandener Schlankheitsgrad | F51: lvorh | H51: =4*I147/Daten_1!E6 -> 834.78261 | I51: -
B52: =IF(H51>G154,"Stabilitätsnachweis nach Euler", "Berechnung nach Tegtmajer ist maßgebend") -> Stabilitätsnachweis nach Euler
B53: vorhandene Knickspannung | F53: sk | H53: =IF(H51>G154,G155,G156) -> 2.9742143 | I53: N/mm²
B54: Sicherheit der druckbeanspruchten Spindel gegen Ausknicken
B55: =IF(H51>G154,"(übliche Sicherheitswerte ca. 3 ... 6)","(übliche Sicherheitswerte ca. 2 ... 4)") -> (übliche Sicherheitswerte ca. 3 ... 6) | I55: vorhanden | J55: mindest
B56: wenn nur auf Druck beansprucht | E56: Sk ausreichend ? | G56: =IF(I56>J56,"ja","nein") -> nein | I56: =IF(H51>G154,G155/I48,G156/I48) -> 0.0041190452 | J56: =IF(H51>G154,3,2) -> 3
B57: wenn Druck + Torsion vorliegt | E57: Sk ausreichend ? | G57: =IF(I57>J57,"ja","nein") -> nein | I57: =IF(H51>G154,G155/I49,G156/I49) -> 0.0031858772 | J57: =J56 -> 3
B58: c) Länge der Führungsmutter
E59: empfohlene Höchstlänge | F59: l1' | H59: =(G14*1000*I28)/(Daten_2!I5*Daten_1!J6*PI()*Daten_1!K6) -> 341.04631 | I59: mm
E60: empfohlene Mindestlänge | F60: l1'' | H60: =(G14*1000*I28)/(Daten_2!J5*Daten_1!J6*PI()*Daten_1!K6) -> 170.52315 | I60: mm
E61: festgelegte Mutterlänge [mm] | F61: l1 | G61: 60 | I61: =IF(G61>2.5*Daten_1!F6,"Fehler! l<2,5*d",IF(G61>H59,"?",IF(G61<H60,"Fehler !",""))) -> Fehler! l<2,5*d
B62: Kontrolle der zulässigen Flächenpressung | I62: vorhanden | J62: zulässig
B63: Flächenpressung Spindel / Mutter zulässig ? | G63: =IF(I63<J63,"ja","nein") -> nein | I63: =(G14*1000*Daten_1!G6)/(G61*Daten_1!J6*PI()*Daten_1!K6) -> 56.841051 | J63: =Daten_2!J5 -> 20
B80: Roloff / Matek "Maschinenelemente"
B81: ="Arbeitsblatt: "&G4 -> Arbeitsblatt: SCHR-4
B82: Auslegung einer Bewegungsschraube mit Trapezgewinde
B83: =+B8 -> Entwurfsberechnung
B86: Zusammenstellung der Werte
F87: ausgedruckt am: | G87: =TODAY() -> 41864
B93: =+B14 -> von der Spindel zu übertragende Druckkraft | F93: F | H93: =+G14 -> 75 | I93: =+H14 -> kN
C94: Beanspruchungsart | H94: =+H152 -> statisch
C95: Knickfall | H95: =+G16 -> 1
C96: Werkstoff der Spindel | H96: =+G152 -> St50-2
C97: Werkstoff der Spindelmutter | H97: =H35 -> CuSn-Leg.
B98: festgelegte Mutterlänge | F98: l1 | H98: =G61 -> 60 | I98: mm
B99: Gewindedaten
B100: festgelegtes Trapez-Gewinde | H100: =+I24 -> Tr | I100: =+J24 -> 16
C101: Flankendurchmesser | F101: d2 | H101: =Daten_1!J6 -> 14 | I101: mm
C102: Kerndurchmesser | F102: d3 | H102: =Daten_1!E6 -> 11.5 | I102: mm
C103: Gangzahl | F103: n | H103: =G19 -> 1 | I103: -
C104: Gewindesteigung | F104: Ph | H104: =+I28 -> 4 | I104: mm
C105: Gesamtsteigung P = Ph x n | F105: P | H105: =I29 -> 4 | I105: mm
C106: Steigungswinkel (1-gängig) | F106: j | H106: =+I26 -> 5.1965082 | I106: °
C107: Steigungswinkel (n-gängig) | F107: j' | H107: =I27 -> 5.1965082 | I107: °
C108: =+E36 -> Schmierzustand | F108: - | H108: =+H36 -> geschmiert
C109: Reibwinkel | F109: r | H109: =+H37 -> 6 | I109: =+I37 -> °
B115: erforderliches Drehmoment | F115: =+F44 -> T | G115: =+H44 -> 103.91955 | H115: =+I44 -> Nm
B116: =+B45 -> Gewinde ist selbsthemmend | G116: =+G45 -> ja
B117: a) Zulässigkeit der Einzelspannungen | I117: =+I46 -> vorhanden | J117: =+J46 -> zulässig
B118: =+B47 -> im verdrehbeanspruchten Bereich | E118: tt < tt zul ? | F118: =+F47 -> [N/mm²] | G118: =+G47 -> nein | I118: =+I47 -> 341.64396 | J118: =+J47 -> 113.33333
B119: =+B48 -> im druckbeanspruchten Bereich | E119: sd < sd zul ? | F119: =+F48 -> [N/mm²] | G119: =+G48 -> nein | I119: =+I48 -> 722.06401 | J119: =+J48 -> 196.66667
B120: =+B49 -> druck- u. verdrehbeanspr. Bereich | E120: sv < sv zul ? | F120: =+F49 -> [N/mm²] | G120: =+G49 -> nein | I120: =+I49 -> 933.56211 | J120: =+J49 -> 196.66667
B121: =+B50 -> b) Stabilitätsnachweis
B122: =+B51 -> vorhandener Schlankheitsgrad | F122: lvorh | G122: =+H51 -> 834.78261 | H122: -
B123: maßgebendes Verfahren: | F123: =+B52 -> Stabilitätsnachweis nach Euler
B124: =+B53 -> vorhandene Knickspannung | F124: sk | G124: =+H53 -> 2.9742143 | H124: =+I53 -> N/mm²
B125: =+B54 -> Sicherheit der druckbeanspruchten Spindel gegen Ausknicken
C126: =+B55 -> (übliche Sicherheitswerte ca. 3 ... 6) | F126: =+F55 | G126: =+G55 | I126: =+I55 -> vorhanden | J126: =+J55 -> mindest
B127: =+B56 -> wenn nur auf Druck beansprucht | E127: Sk ausreichend ? | G127: =+G56 -> nein | H127: =+H56 | I127: =+I56 -> 0.0041190452 | J127: =+J56 -> 3
B128: =+B57 -> wenn Druck + Torsion vorliegt | E128: Sk ausreichend ? | G128: =+G57 -> nein | H128: =+H57 | I128: =+I57 -> 0.0031858772 | J128: =+J57 -> 3
B129: c) Führungsmutter
C130: empfohlene Höchstlänge | F130: l1' | G130: =+H59 -> 341.04631 | H130: =+I59 -> mm
C131: empfohlene Mindestlänge | F131: l1'' | G131: =+H60 -> 170.52315 | H131: =+I60 -> mm
C132: festgelegte Länge | F132: l1 | G132: =+G61 -> 60 | H132: mm | I132: =+I61 -> Fehler! l<2,5*d
B133: =+B62 -> Kontrolle der zulässigen Flächenpressung
B134: vorhandene Flächenpressung Spindel / Mutter | G134: =+I63 -> 56.841051 | H134: N/mm²
B135: maximal zulässige Flächenpressung | G135: =+J63 -> 20 | H135: N/mm²
B136: =+B63 -> Flächenpressung Spindel / Mutter zulässig ? | G136: =+G63 -> nein
B147: maßgebende Knicklänge | F147: lk | I147: =IF(G16=1,2*G15,IF(G16=2,1*G15,IF(G16=3,0.7*G15,IF(G16=4,0.5*G15,"")))) -> 2400 | J147: mm
B148: zul. Torsionsspannung St37-2 | I148: =IF(G17=1,135/1.5,135/2) -> 90 | J148: N/mm²
B149: zul. Druckspannung St37-2 | I149: =IF(G17=1,235/1.5,235/2) -> 156.66667 | J149: N/mm²
B150: zul. Torsionsspannung St50-2 | I150: =IF(G17=1,170/1.5,170/2) -> 113.33333 | J150: N/mm²
B151: zul. Druckspannung St50-2 | I151: =IF(G17=1,295/1.5,295/2) -> 196.66667 | J151: N/mm²
B152: maßgebende zulässige Torsionsspannnung | G152: =IF(G18=1,"St37-2","St50-2") -> St50-2 | H152: =IF(G17=1,"statisch","schwellend") -> statisch | I152: =IF(G18=1,I148,I150) -> 113.33333 | J152: N/mm²
B153: maßgebende zulässige Druckspannung | G153: =IF(G18=1,"St37-2","St50-2") -> St50-2 | H153: =IF(G17=1,"statisch","schwellend") -> statisch | I153: =IF(G18=1,I149,I151) -> 196.66667 | J153: N/mm²
B154: Grenzschlankheitsgrad | F154: l0 | G154: =IF(G18=1,105,IF(G18=2,89,"Fehler!")) -> 89 | H154: -
B155: Knickspannung (Euler) | F155: sk | G155: =210000*PI()^2/H51^2 -> 2.9742143 | H155: N/mm²
B156: Knickspannung (Tegtmajer) | F156: sk | G156: =IF(G18=1,310-1.14*H51,IF(G18=2,335-0.62*H51)) -> -182.56522 | H156: N/mm²
F160: Werkstoffpaarung Spindel/Mutter
D161: 6 | E161: 1 | F161: St/GJL (trocken)
E162: 2 | F162: St/ GJL (geschmiert)
...

Sheet Grafik

Sheet Grafik2

Sheet Daten_1
D3: Kenn- | E3: d3 | F3: d | G3: P' | H3: h3 | I3: j | J3: d2=D2 | K3: H1 | L3: A3
D4: Nr. | E4: mm | F4: mm | G4: mm | H4: mm | I4: ° | J4: mm | K4: mm | L4: mm²
D6: =Eingabe!E260 -> 7 | E6: =VLOOKUP($D$6,$D$12:$L$76,E8,3) -> 11.5 | F6: =VLOOKUP($D$6,$D$12:$L$76,F8,3) -> 16 | G6: =VLOOKUP($D$6,$D$12:$L$76,G8,3) -> 4 | H6: =VLOOKUP($D$6,$D$12:$L$76,H8,3) -> 2.25 | I6: =VLOOKUP($D$6,$D$12:$L$76,I8,3) -> 5.1965082 | J6: =VLOOKUP($D$6,$D$12:$L$76,J8,3) -> 14 | K6: =VLOOKUP($D$6,$D$12:$L$76,K8,3) -> 2 | L6: =VLOOKUP($D$6,$D$12:$L$76,L8,3) -> 103.86891
D8: 1 | E8: 2 | F8: 3 | G8: 4 | H8: 5 | I8: 6 | J8: 7 | K8: 8 | L8: 9
G9: ermittelter Kerndurchmesser | J9: d3 = | K9: =Eingabe!I20 -> 76.343347 | L9: mm
D10: Kenn- | E10: d3 | F10: d | G10: P | H10: h3 | I10: j | J10: d2=D2 | K10: H1 | L10: A3
D11: Nr, | E11: mm | F11: mm | G11: mm | H11: mm | I11: ° | J11: mm | K11: mm | L11: mm²
D12: 1 | E12: =F12-2*H12 -> 6.2 | F12: 8 | G12: 1.5 | H12: 0.9 | I12: =ATAN(G12/(J12*PI()))*180/PI() -> 3.7678996 | J12: =F12-0.5*G12 -> 7.25 | K12: =0.5*G12 -> 0.75 | L12: =E12^2*PI()/4 -> 30.190705
D13: 2 | E13: =F13-2*H13 -> 8.2 | F13: 10 | G13: 1.5 | H13: 0.9 | I13: =ATAN(G13/(J13*PI()))*180/PI() -> 2.9548608 | J13: =F13-0.5*G13 -> 9.25 | K13: =0.5*G13 -> 0.75 | L13: =E13^2*PI()/4 -> 52.810173
D14: 3 | E14: =F14-2*H14 -> 7.5 | F14: 10 | G14: 2 | H14: 1.25 | I14: =ATAN(G14/(J14*PI()))*180/PI() -> 4.0461081 | J14: =F14-0.5*G14 -> 9 | K14: =0.5*G14 -> 1 | L14: =E14^2*PI()/4 -> 44.178647
D15: 4 | E15: =F15-2*H15 -> 9.5 | F15: 12 | G15: 2 | H15: 1.25 | I15: =ATAN(G15/(J15*PI()))*180/PI() -> 3.3122712 | J15: =F15-0.5*G15 -> 11 | K15: =0.5*G15 -> 1 | L15: =E15^2*PI()/4 -> 70.882184
D16: 5 | E16: =F16-2*H16 -> 8.5 | F16: 12 | G16: 3 | H16: 1.75 | I16: =ATAN(G16/(J16*PI()))*180/PI() -> 5.1965082 | J16: =F16-0.5*G16 -> 10.5 | K16: =0.5*G16 -> 1.5 | L16: =E16^2*PI()/4 -> 56.745017
D17: 6 | E17: =F17-2*H17 -> 13.5 | F17: 16 | G17: 2 | H17: 1.25 | I17: =ATAN(G17/(J17*PI()))*180/PI() -> 2.4302499 | J17: =F17-0.5*G17 -> 15 | K17: =0.5*G17 -> 1 | L17: =E17^2*PI()/4 -> 143.13882
D18: 7 | E18: =F18-2*H18 -> 11.5 | F18: 16 | G18: 4 | H18: 2.25 | I18: =ATAN(G18/(J18*PI()))*180/PI() -> 5.1965082 | J18: =F18-0.5*G18 -> 14 | K18: =0.5*G18 -> 2 | L18: =E18^2*PI()/4 -> 103.86891
D19: 8 | E19: =F19-2*H19 -> 17.5 | F19: 20 | G19: 2 | H19: 1.25 | I19: =ATAN(G19/(J19*PI()))*180/PI() -> 1.9190519 | J19: =F19-0.5*G19 -> 19 | K19: =0.5*G19 -> 1 | L19: =E19^2*PI()/4 -> 240.52819
D20: 9 | E20: =F20-2*H20 -> 15.5 | F20: 20 | G20: 4 | H20: 2.25 | I20: =ATAN(G20/(J20*PI()))*180/PI() -> 4.0461081 | J20: =F20-0.5*G20 -> 18 | K20: =0.5*G20 -> 2 | L20: =E20^2*PI()/4 -> 188.69191
D21: 10 | E21: =F21-2*H21 -> 20.5 | F21: 24 | G21: 3 | H21: 1.75 | I21: =ATAN(G21/(J21*PI()))*180/PI() -> 2.4302499 | J21: =F21-0.5*G21 -> 22.5 | K21: =0.5*G21 -> 1.5 | L21: =E21^2*PI()/4 -> 330.06358
D22: 11 | E22: =F22-2*H22 -> 18.5 | F22: 24 | G22: 5 | H22: 2.75 | I22: =ATAN(G22/(J22*PI()))*180/PI() -> 4.23363 | J22: =F22-0.5*G22 -> 21.5 | K22: =0.5*G22 -> 2.5 | L22: =E22^2*PI()/4 -> 268.80252
D23: 12 | E23: =F23-2*H23 -> 15 | F23: 24 | G23: 8 | H23: 4.5 | I23: =ATAN(G23/(J23*PI()))*180/PI() -> 7.2560829 | J23: =F23-0.5*G23 -> 20 | K23: =0.5*G23 -> 4 | L23: =E23^2*PI()/4 -> 176.71459
... D76: 65 | E76: =F76-2*H76 -> 104 | F76: 120 | G76: 14 | H76: 8 | I76: =ATAN(G76/(J76*PI()))*180/PI() -> 2.2583818 | J76: =F76-0.5*G76 -> 113 | K76: =0.5*G76 -> 7 | L76: =E76^2*PI()/4 -> 8494.8665

Sheet Daten_2
D2: Kenn- | E2: Werkstoff | G2: Schmierung | H2: Reibwinkel | I2: pzul min | J2: pzul max
D3: Nr. | E3: - | G3: - | H3: ° | I3: N/mm² | J3: N/mm²
D5: =Eingabe!D161 -> 6 | E5: =VLOOKUP($D$5,$D$11:$J$20,E8,3) -> St | F5: =VLOOKUP($D$5,$D$11:$J$20,F8,3) -> CuSn-Leg. | G5: =VLOOKUP($D$5,$D$11:$J$20,G8,3) -> geschmiert | H5: =VLOOKUP($D$5,$D$11:$J$20,H8,3) -> 6 | I5: =VLOOKUP($D$5,$D$11:$J$20,I8,3) -> 10 | J5: =VLOOKUP($D$5,$D$11:$J$20,J8,3) -> 20
D8: 1 | E8: 2 | F8: 3 | G8: 4 | H8: 5 | I8: 6 | J8: 7
D9: Kenn- | E9: Werkstoff | G9: Schmierung | H9: Reibwinkel | I9: pzul min | J9: pzul max
D10: Nr. | E10: Spindel | F10: Mutter | G10: - | H10: ° | I10: N/mm² | J10: N/mm²
D11: 1 | E11: St | F11: GJL | G11: trocken | H11: 12 | I11: 3 | J11: 7
D12: 2 | E12: St | F12: GJL | G12: geschmiert | H12: 6 | I12: 3 | J12: 7
D13: 3 | E13: St | F13: CuZn-Leg. | G13: trocken | H13: 10 | I13: 10 | J13: 20
D14: 4 | E14: St | F14: CuZn-Leg. | G14: geschmiert | H14: 6 | I14: 10 | J14: 20
D15: 5 | E15: St | F15: CuSn-Leg. | G15: trocken | H15: 10 | I15: 10 | J15: 20
D16: 6 | E16: St | F16: CuSn-Leg. | G16: geschmiert | H16: 6 | I16: 10 | J16: 20
D17: 7 | E17: St | F17: Turcite-A | G17: trocken | H17: 6 | I17: 5 | J17: 15
D18: 8 | E18: St | F18: Turcite-A | G18: geschmiert | H18: 2.5 | I18: 5 | J18: 15
D19: 9 | E19: St | F19: Nylatron | G19: trocken | H19: 6 | I19: 20 | J19: 55
D20: 10 | E20: St | F20: Nylatron | G20: geschmiert | H20: 2.5 | I20: 20 | J20: 55
